BEGIN:VCALENDAR
VERSION:2.0
PRODID:-//Advocating Thriving Communities - ECPv6.5.1.6//NONSGML v1.0//EN
CALSCALE:GREGORIAN
METHOD:PUBLISH
X-WR-CALNAME:Advocating Thriving Communities
X-ORIGINAL-URL:https://healthycommunitiesmn.org
X-WR-CALDESC:Events for Advocating Thriving Communities
REFRESH-INTERVAL;VALUE=DURATION:PT1H
X-Robots-Tag:noindex
X-PUBLISHED-TTL:PT1H
BEGIN:VTIMEZONE
TZID:UTC
BEGIN:STANDARD
TZOFFSETFROM:+0000
TZOFFSETTO:+0000
TZNAME:UTC
DTSTART:20240101T000000
END:STANDARD
END:VTIMEZONE
BEGIN:VEVENT
DTSTART;TZID=UTC:20240623T120000
DTEND;TZID=UTC:20240623T180000
DTSTAMP:20260423T222912
CREATED:20240624T141002Z
LAST-MODIFIED:20240624T141002Z
UID:300-1719144000-1719165600@healthycommunitiesmn.org
SUMMARY:Amazon Charity Donation Drive
DESCRIPTION:We are excited to invite you to our upcoming charity event\, where we aim to make a significant impact on the communities we serve. Through Amazon’s generous donations\, we will strengthen our local communities to thrive and live sustainably. \nIn Partnership with Amazon\, Advocates will be providing free and packaged items donated to the community. Items consist of clothing\, electronics\, school supplies\, and household supplies.
URL:https://healthycommunitiesmn.org/event/amazon-charity-donation-drive/
ATTACH;FMTTYPE=image/jpeg:https://healthycommunitiesmn.org/wp-content/uploads/2024/06/2-04.jpg
END:VEVENT
END:VCALENDAR