BEGIN:VCALENDAR
VERSION:2.0
PRODID:-//Advocating Thriving Communities - ECPv6.5.1.6//NONSGML v1.0//EN
CALSCALE:GREGORIAN
METHOD:PUBLISH
X-WR-CALNAME:Advocating Thriving Communities
X-ORIGINAL-URL:https://healthycommunitiesmn.org
X-WR-CALDESC:Events for Advocating Thriving Communities
REFRESH-INTERVAL;VALUE=DURATION:PT1H
X-Robots-Tag:noindex
X-PUBLISHED-TTL:PT1H
BEGIN:VTIMEZONE
TZID:UTC
BEGIN:STANDARD
TZOFFSETFROM:+0000
TZOFFSETTO:+0000
TZNAME:UTC
DTSTART:20240101T000000
END:STANDARD
END:VTIMEZONE
BEGIN:VEVENT
DTSTART;TZID=UTC:20240628T161500
DTEND;TZID=UTC:20240628T180000
DTSTAMP:20260423T222905
CREATED:20240613T185259Z
LAST-MODIFIED:20240613T185259Z
UID:296-1719591300-1719597600@healthycommunitiesmn.org
SUMMARY:Homeownership Class
DESCRIPTION:Want to learn how to purchase a home? \nAttan our Home buyer 101 class and find out how you can.
URL:https://healthycommunitiesmn.org/event/homeownership-class/
ATTACH;FMTTYPE=image/jpeg:https://healthycommunitiesmn.org/wp-content/uploads/2024/06/2-01.jpg
END:VEVENT
END:VCALENDAR