BEGIN:VCALENDAR
VERSION:2.0
PRODID:-//Advocating Thriving Communities - ECPv6.5.1.6//NONSGML v1.0//EN
CALSCALE:GREGORIAN
METHOD:PUBLISH
X-ORIGINAL-URL:https://healthycommunitiesmn.org
X-WR-CALDESC:Events for Advocating Thriving Communities
REFRESH-INTERVAL;VALUE=DURATION:PT1H
X-Robots-Tag:noindex
X-PUBLISHED-TTL:PT1H
BEGIN:VTIMEZONE
TZID:UTC
BEGIN:STANDARD
TZOFFSETFROM:+0000
TZOFFSETTO:+0000
TZNAME:UTC
DTSTART:20230101T000000
END:STANDARD
END:VTIMEZONE
BEGIN:VEVENT
DTSTART;TZID=UTC:20230906T123000
DTEND;TZID=UTC:20230906T163000
DTSTAMP:20260424T114305
CREATED:20230925T062951Z
LAST-MODIFIED:20230925T062951Z
UID:279-1694003400-1694017800@healthycommunitiesmn.org
SUMMARY:COMMUNITY VACCINE CLINIC
DESCRIPTION:Vaccines are a free\, safe\, and effective way to prevent the spread of COVID-19. Help keep our community safe!
URL:https://healthycommunitiesmn.org/event/community-vaccine-clinic/
ATTACH;FMTTYPE=image/jpeg:https://healthycommunitiesmn.org/wp-content/uploads/2023/09/372920778_1045135656765390_6802417510433546502_n.jpg
END:VEVENT
BEGIN:VEVENT
DTSTART;TZID=UTC:20230908T191000
DTEND;TZID=UTC:20230908T201000
DTSTAMP:20260424T114305
CREATED:20230803T141513Z
LAST-MODIFIED:20230803T141513Z
UID:156-1694200200-1694203800@healthycommunitiesmn.org
SUMMARY:COVID-19 Vaccine
DESCRIPTION:Community Vaccine Clinic\nVaccines are a free\, safe\, and effective way to prevent the spread of COVID-19.  Help keep our community safe!
URL:https://healthycommunitiesmn.org/event/covid-19-vaccine-3/
LOCATION:Scott Country Government enter\, 200 4th Ave W\, Shakopee MN\, Shakopee\, 55379
END:VEVENT
BEGIN:VEVENT
DTSTART;TZID=UTC:20230920T060000
DTEND;TZID=UTC:20230920T193000
DTSTAMP:20260424T114305
CREATED:20230925T061934Z
LAST-MODIFIED:20230925T061934Z
UID:273-1695189600-1695238200@healthycommunitiesmn.org
SUMMARY:Shah iyo Sheeko
DESCRIPTION:Empowering and Supporting Somali Women with Tea
URL:https://healthycommunitiesmn.org/event/shah-iyo-sheeko/
ATTACH;FMTTYPE=image/jpeg:https://healthycommunitiesmn.org/wp-content/uploads/2023/09/379806234_1058684988743790_8487623189169357466_n.jpg
END:VEVENT
BEGIN:VEVENT
DTSTART;TZID=UTC:20230923T131000
DTEND;TZID=UTC:20230923T163000
DTSTAMP:20260424T114305
CREATED:20230803T141706Z
LAST-MODIFIED:20230803T141706Z
UID:158-1695474600-1695486600@healthycommunitiesmn.org
SUMMARY:COVID-19 Vaccine
DESCRIPTION:Community Vaccine Clinic\nVaccines are a free\, safe\, and effective way to prevent the spread of COVID-19.  Help keep our community safe!
URL:https://healthycommunitiesmn.org/event/covid-19-vaccine-4/
LOCATION:Scott Country Government enter\, 200 4th Ave W\, Shakopee MN\, Shakopee\, 55379
END:VEVENT
END:VCALENDAR